BEGIN:VCALENDAR
VERSION:2.0
PRODID:-//eventon.com NONSGML v1.0//EN
CALSCALE:GREGORIAN
METHOD:PUBLISH
BEGIN:VEVENT
UID:69ec1037deebc
DTSTAMP:20260425T005207Z
DTSTART:20230325T010000Z
DTEND:20230325T070000Z
LOCATION:Plaza Le Rizz 6630 Jarry Est. St-Léonard\,  Qc H1P 1W3
SUMMARY:Klass & Kayos
DESCRIPTION:Klass & Kayos\nhttps://ennery.ca/ennery-events/klass/
URL:https://ennery.ca/ennery-events/klass/
END:VEVENT
END:VCALENDAR