BEGIN:VCALENDAR
VERSION:2.0
PRODID:-//eventon.com NONSGML v1.0//EN
CALSCALE:GREGORIAN
METHOD:PUBLISH
BEGIN:VEVENT
UID:69e68fa16f7c4
DTSTAMP:20260420T204209Z
DTSTART:20230318T020000Z
DTEND:20230318T070000Z
LOCATION:Le Secret 380 boul Curé-Labelle H7V 2X5
SUMMARY:Silent Island
DESCRIPTION:Silent Island\nhttps://ennery.ca/ennery-events/silent-island/
URL:https://ennery.ca/ennery-events/silent-island/
END:VEVENT
END:VCALENDAR