BEGIN:VCALENDAR
VERSION:2.0
PRODID:-//eventon.com NONSGML v1.0//EN
CALSCALE:GREGORIAN
METHOD:PUBLISH
BEGIN:VEVENT
UID:69e63c3c84899
DTSTAMP:20260420T144620Z
DTSTART:20230813T220000Z
DTEND:20230814T070000Z
LOCATION:Vieux Montreal De la Commune
SUMMARY:HAIWAIIAN BOAT: DAY AND NIGHT PARTY
DESCRIPTION:HAIWAIIAN BOAT: DAY AND NIGHT PARTY\nhttps://ennery.ca/ennery-e
 vents/haiwaiian-boat-day-and-night-party/
URL:https://ennery.ca/ennery-events/haiwaiian-boat-day-and-night-party/
END:VEVENT
END:VCALENDAR