BEGIN:VCALENDAR
VERSION:2.0
PRODID:-//eventon.com NONSGML v1.0//EN
CALSCALE:GREGORIAN
METHOD:PUBLISH
BEGIN:VEVENT
UID:69e9e32d2e84a
DTSTAMP:20260423T091525Z
DTSTART:20230917T020000Z
DTEND:20230917T070000Z
LOCATION:
SUMMARY:Birthday Celebration
DESCRIPTION:Birthday Celebration\nhttps://ennery.ca/ennery-events/birthday-
 celebration/
URL:https://ennery.ca/ennery-events/birthday-celebration/
END:VEVENT
END:VCALENDAR