BEGIN:VCALENDAR
VERSION:2.0
PRODID:-//eventon.com NONSGML v1.0//EN
CALSCALE:GREGORIAN
METHOD:PUBLISH
BEGIN:VEVENT
UID:69ebe6c509b5a
DTSTAMP:20260424T215517Z
DTSTART:20230617T020000Z
DTEND:20230617T070000Z
LOCATION:Le Carlton 8860 Langelier\,  Montreal\,  H1P 3C6
SUMMARY:Overdose
DESCRIPTION:Overdose\nhttps://ennery.ca/ennery-events/overdose-4/
URL:https://ennery.ca/ennery-events/overdose-4/
END:VEVENT
END:VCALENDAR