BEGIN:VCALENDAR
VERSION:2.0
PRODID:-//eventon.com NONSGML v1.0//EN
CALSCALE:GREGORIAN
METHOD:PUBLISH
BEGIN:VEVENT
UID:69e748db002b7
DTSTAMP:20260421T095227Z
DTSTART:20230714T140000Z
DTEND:20230715T070000Z
LOCATION:
SUMMARY:Overdose
DESCRIPTION:Overdose\nhttps://ennery.ca/ennery-events/overdose-5/
URL:https://ennery.ca/ennery-events/overdose-5/
END:VEVENT
END:VCALENDAR