BEGIN:VCALENDAR
VERSION:2.0
PRODID:-//eventon.com NONSGML v1.0//EN
CALSCALE:GREGORIAN
METHOD:PUBLISH
BEGIN:VEVENT
UID:69e74990f0b7f
DTSTAMP:20260421T095528Z
DTSTART:20230729T020000Z
DTEND:20230729T070000Z
LOCATION:Complexe - La Providence 6566 Rue Jarry E Saint-Léonard\,  QC H1P 1W3
SUMMARY:Overdose
DESCRIPTION:Overdose\nhttps://ennery.ca/ennery-events/overdose-7/
URL:https://ennery.ca/ennery-events/overdose-7/
END:VEVENT
END:VCALENDAR