BEGIN:VCALENDAR
VERSION:2.0
PRODID:-//eventon.com NONSGML v1.0//EN
CALSCALE:GREGORIAN
METHOD:PUBLISH
BEGIN:VEVENT
UID:69e7b46dd9713
DTSTAMP:20260421T173125Z
DTSTART:20230902T020000Z
DTEND:20230902T070000Z
LOCATION:Complexe - La Providence 6566 Rue Jarry E Saint-Léonard\,  QC H1P 1W3
SUMMARY:Overdose
DESCRIPTION:Overdose\nhttps://ennery.ca/ennery-events/overdose-10/
URL:https://ennery.ca/ennery-events/overdose-10/
END:VEVENT
END:VCALENDAR