BEGIN:VCALENDAR
VERSION:2.0
PRODID:-//eventon.com NONSGML v1.0//EN
CALSCALE:GREGORIAN
METHOD:PUBLISH
BEGIN:VEVENT
UID:69e5098a2071c
DTSTAMP:20260419T165746Z
DTSTART:20231203T020000Z
DTEND:20231203T080000Z
LOCATION:Le Carlton 8860 Langelier\,  Montreal\,  H1P 3C6
SUMMARY:Crush: Merci Montreal
DESCRIPTION:Crush: Merci Montreal\nhttps://ennery.ca/ennery-events/crush-me
 rci-montreal/
URL:https://ennery.ca/ennery-events/crush-merci-montreal/
END:VEVENT
END:VCALENDAR