BEGIN:VCALENDAR
VERSION:2.0
PRODID:-//eventon.com NONSGML v1.0//EN
CALSCALE:GREGORIAN
METHOD:PUBLISH
BEGIN:VEVENT
UID:69e74032bdcd2
DTSTAMP:20260421T091530Z
DTSTART:20240224T030000Z
DTEND:20240224T080000Z
LOCATION:Complexe - La Providence 6566 Rue Jarry E Saint-Léonard\,  QC H1P 1W3
SUMMARY:Casino Royale
DESCRIPTION:Casino Royale\nhttps://ennery.ca/ennery-events/casino-royale/
URL:https://ennery.ca/ennery-events/casino-royale/
END:VEVENT
END:VCALENDAR