BEGIN:VCALENDAR
VERSION:2.0
PRODID:-//eventon.com NONSGML v1.0//EN
CALSCALE:GREGORIAN
METHOD:PUBLISH
BEGIN:VEVENT
UID:69ea7adfb1b0b
DTSTAMP:20260423T200239Z
DTSTART:20240203T030000Z
DTEND:20240203T080000Z
LOCATION:Complexe - La Providence 6566 Rue Jarry E Saint-Léonard\,  QC H1P 1W3
SUMMARY:Baz: Fan's Appreciation Party
DESCRIPTION:Baz: Fan's Appreciation Party\nhttps://ennery.ca/ennery-events/
 baz-fans-appreciation-party/
URL:https://ennery.ca/ennery-events/baz-fans-appreciation-party/
END:VEVENT
END:VCALENDAR