BEGIN:VCALENDAR
VERSION:2.0
PRODID:-//eventon.com NONSGML v1.0//EN
CALSCALE:GREGORIAN
METHOD:PUBLISH
BEGIN:VEVENT
UID:69e4ddf5daeed
DTSTAMP:20260419T135149Z
DTSTART:20240624T200000Z
DTEND:20240625T020000Z
LOCATION:ROASTERS 931 Bd Crémazie O\,  Montréal\,  QC H4N 3M5
SUMMARY:We Outside 4
DESCRIPTION:We Outside 4\nhttps://ennery.ca/ennery-events/we-outside-4/
URL:https://ennery.ca/ennery-events/we-outside-4/
END:VEVENT
END:VCALENDAR