BEGIN:VCALENDAR
VERSION:2.0
PRODID:-//eventon.com NONSGML v1.0//EN
CALSCALE:GREGORIAN
METHOD:PUBLISH
BEGIN:VEVENT
UID:69e9f83f8d522
DTSTAMP:20260423T104519Z
DTSTART:20240520T020000Z
DTEND:20240520T070000Z
LOCATION:Le Carlton 8860 Langelier\,  Montreal\,  H1P 3C6
SUMMARY:Sunday
DESCRIPTION:Sunday\nhttps://ennery.ca/ennery-events/sunday/
URL:https://ennery.ca/ennery-events/sunday/
END:VEVENT
END:VCALENDAR