BEGIN:VCALENDAR
VERSION:2.0
PRODID:-//eventon.com NONSGML v1.0//EN
CALSCALE:GREGORIAN
METHOD:PUBLISH
BEGIN:VEVENT
UID:69eaf3ea6a65c
DTSTAMP:20260424T043906Z
DTSTART:20220501T200000Z
DTEND:20220502T020000Z
LOCATION:
SUMMARY:The Password
DESCRIPTION:The Password\nhttps://ennery.ca/ennery-events/the-password/
URL:https://ennery.ca/ennery-events/the-password/
END:VEVENT
END:VCALENDAR