BEGIN:VCALENDAR
VERSION:2.0
PRODID:-//eventon.com NONSGML v1.0//EN
CALSCALE:GREGORIAN
METHOD:PUBLISH
BEGIN:VEVENT
UID:69ed281783fd9
DTSTAMP:20260425T204615Z
DTSTART:20220605T200000Z
DTEND:20220606T035900Z
LOCATION:Plaza du Parc 2190 Rue de la Province\,  Longueuil\,  QC J4G 1R7
SUMMARY:De Ka Bes
DESCRIPTION:De Ka Bes\nhttps://ennery.ca/ennery-events/de-ka-bes/
URL:https://ennery.ca/ennery-events/de-ka-bes/
END:VEVENT
END:VCALENDAR