BEGIN:VCALENDAR
VERSION:2.0
PRODID:-//eventon.com NONSGML v1.0//EN
CALSCALE:GREGORIAN
METHOD:PUBLISH
BEGIN:VEVENT
UID:69e9085f7a1bd
DTSTAMP:20260422T174151Z
DTSTART:20220612T200000Z
DTEND:20220613T035900Z
LOCATION:Plaza du Parc 2190 Rue de la Province\,  Longueuil\,  QC J4G 1R7
SUMMARY:Vintage
DESCRIPTION:Vintage\nhttps://ennery.ca/ennery-events/vintage/
URL:https://ennery.ca/ennery-events/vintage/
END:VEVENT
END:VCALENDAR