BEGIN:VCALENDAR
VERSION:2.0
PRODID:-//eventon.com NONSGML v1.0//EN
CALSCALE:GREGORIAN
METHOD:PUBLISH
BEGIN:VEVENT
UID:69e51d6385044
DTSTAMP:20260419T182227Z
DTSTART:20220701T013000Z
DTEND:20220701T070000Z
LOCATION:Complexe - La Providence 6566 Rue Jarry E Saint-Léonard\,  QC H1P 1W3
SUMMARY:Montreal Groove
DESCRIPTION:Montreal Groove\nhttps://ennery.ca/ennery-events/montreal-groov
 e-2/
URL:https://ennery.ca/ennery-events/montreal-groove-2/
END:VEVENT
END:VCALENDAR