BEGIN:VCALENDAR
VERSION:2.0
PRODID:-//eventon.com NONSGML v1.0//EN
CALSCALE:GREGORIAN
METHOD:PUBLISH
BEGIN:VEVENT
UID:69e50cad98acd
DTSTAMP:20260419T171109Z
DTSTART:20220703T200000Z
DTEND:20220704T020000Z
LOCATION:
SUMMARY:We Outside Mtl
DESCRIPTION:We Outside Mtl\nhttps://ennery.ca/ennery-events/we-outside-mtl/
URL:https://ennery.ca/ennery-events/we-outside-mtl/
END:VEVENT
END:VCALENDAR