BEGIN:VCALENDAR
VERSION:2.0
PRODID:-//eventon.com NONSGML v1.0//EN
CALSCALE:GREGORIAN
METHOD:PUBLISH
BEGIN:VEVENT
UID:69eb42eba4a61
DTSTAMP:20260424T101611Z
DTSTART:20220731T220000Z
DTEND:20220801T070000Z
LOCATION:Vieux Montreal De la Commune
SUMMARY:Celebrating Platinum 15th
DESCRIPTION:Celebrating Platinum 15th\nhttps://ennery.ca/ennery-events/cele
 brating-platinum-15th/
URL:https://ennery.ca/ennery-events/celebrating-platinum-15th/
END:VEVENT
END:VCALENDAR